BEGIN:VCALENDAR
VERSION:2.0
PRODID:-//St Marks&#039;s Bredbury - ECPv6.15.20//NONSGML v1.0//EN
CALSCALE:GREGORIAN
METHOD:PUBLISH
X-ORIGINAL-URL:https://stmarks-church.co.uk
X-WR-CALDESC:Events for St Marks&#039;s Bredbury
REFRESH-INTERVAL;VALUE=DURATION:PT1H
X-Robots-Tag:noindex
X-PUBLISHED-TTL:PT1H
BEGIN:VTIMEZONE
TZID:UTC
BEGIN:STANDARD
TZOFFSETFROM:+0000
TZOFFSETTO:+0000
TZNAME:UTC
DTSTART:20250101T000000
END:STANDARD
END:VTIMEZONE
BEGIN:VEVENT
DTSTART;TZID=UTC:20260510T150000
DTEND;TZID=UTC:20260510T163000
DTSTAMP:20260423T202647
CREATED:20260418T120239Z
LAST-MODIFIED:20260418T120239Z
UID:24408-1778425200-1778430600@stmarks-church.co.uk
SUMMARY:Messy Church
DESCRIPTION:At Messy Church\, we gather for a fun and relaxed time for all ages to explore faith together. We start with creative crafts\, games and hands-on activities\, then share a lively celebration with songs\, a short Bible story and a prayer. It’s friendly\, informal and full of joy — a place where families can connect and discover more about God. Refreshments are served throughout. It’s all free (there is a donations box) and there is no need to book\, you can just turn up. \nIt is on the second Sunday of each month\, 3:00-4:30pm.
URL:https://stmarks-church.co.uk/event/messy-church/
ATTACH;FMTTYPE=image/png:https://stmarks-church.co.uk/wp-content/uploads/2026/04/Messy-Scrolling.png
END:VEVENT
END:VCALENDAR