BEGIN:VCALENDAR
VERSION:2.0
PRODID:-//St Marks&#039;s Bredbury - ECPv6.15.20//NONSGML v1.0//EN
CALSCALE:GREGORIAN
METHOD:PUBLISH
X-WR-CALNAME:St Marks&#039;s Bredbury
X-ORIGINAL-URL:https://stmarks-church.co.uk
X-WR-CALDESC:Events for St Marks&#039;s Bredbury
REFRESH-INTERVAL;VALUE=DURATION:PT1H
X-Robots-Tag:noindex
X-PUBLISHED-TTL:PT1H
BEGIN:VTIMEZONE
TZID:UTC
BEGIN:STANDARD
TZOFFSETFROM:+0000
TZOFFSETTO:+0000
TZNAME:UTC
DTSTART:20250101T000000
END:STANDARD
END:VTIMEZONE
BEGIN:VEVENT
DTSTART;TZID=UTC:20260429T100000
DTEND;TZID=UTC:20260429T223000
DTSTAMP:20260423T203845
CREATED:20251021T095710Z
LAST-MODIFIED:20260423T144314Z
UID:24161-1777456800-1777501800@stmarks-church.co.uk
SUMMARY:Midweek Service
DESCRIPTION:Join us on a Wednesday for a Communion service at 10:00am.\nWe hear a short talk\, share communion\, and have a reflective space for worship. You’re also welcome to stay after the service for refreshments.
URL:https://stmarks-church.co.uk/event/midweek-service/
CATEGORIES:Every week
ATTACH;FMTTYPE=image/jpeg:https://stmarks-church.co.uk/wp-content/uploads/2024/12/HC.jpg
END:VEVENT
END:VCALENDAR