BEGIN:VCALENDAR
VERSION:2.0
PRODID:-//St Marks&#039;s Bredbury - ECPv6.15.20//NONSGML v1.0//EN
CALSCALE:GREGORIAN
METHOD:PUBLISH
X-ORIGINAL-URL:https://stmarks-church.co.uk
X-WR-CALDESC:Events for St Marks&#039;s Bredbury
REFRESH-INTERVAL;VALUE=DURATION:PT1H
X-Robots-Tag:noindex
X-PUBLISHED-TTL:PT1H
BEGIN:VTIMEZONE
TZID:UTC
BEGIN:STANDARD
TZOFFSETFROM:+0000
TZOFFSETTO:+0000
TZNAME:UTC
DTSTART:20250101T000000
END:STANDARD
END:VTIMEZONE
BEGIN:VEVENT
DTSTART;VALUE=DATE:20260426
DTEND;VALUE=DATE:20260427
DTSTAMP:20260423T222931
CREATED:20250625T143100Z
LAST-MODIFIED:20260423T144134Z
UID:24069-1777161600-1777247999@stmarks-church.co.uk
SUMMARY:Sunday Services
DESCRIPTION:The 9:00am and the 10:30am are relaxed services for people of all ages and backgrounds. Whoever you are\, whatever your story\, you’re really welcome to join us. The 10:30am is the busier of our two Sunday services with groups for children and young people. Refreshments are served after both services.
URL:https://stmarks-church.co.uk/event/1030am-sunday-service/
CATEGORIES:Every week
ATTACH;FMTTYPE=image/jpeg:https://stmarks-church.co.uk/wp-content/uploads/2025/06/StMarks.jpg
ORGANIZER;CN="St Mark's":MAILTO:stmarks@mail.com
END:VEVENT
BEGIN:VEVENT
DTSTART;TZID=UTC:20260426T183000
DTEND;TZID=UTC:20260426T200000
DTSTAMP:20260423T222931
CREATED:20251022T153249Z
LAST-MODIFIED:20260423T144202Z
UID:24166-1777228200-1777233600@stmarks-church.co.uk
SUMMARY:St Mark's Youth
DESCRIPTION:‘Impact’ is our Sunday evening youth group for 11–18s.\nIt meets 6:00–7:30pm in St Mark’s Church Hall (SK6 1BX). \nWe gather together but split into two age groups during the session: 11–14s and 15–18s. It’s all about friendship\, fun\, and faith — come and give it a go! \nOur next Youth Weekend Away is 26-28 June\, to Abersoch. \n 
URL:https://stmarks-church.co.uk/event/st-marks-youth/
CATEGORIES:Every week
ATTACH;FMTTYPE=image/jpeg:https://stmarks-church.co.uk/wp-content/uploads/2025/10/impact.jpg
END:VEVENT
END:VCALENDAR