BEGIN:VCALENDAR
VERSION:2.0
PRODID:-//St Marks&#039;s Bredbury - ECPv6.15.20//NONSGML v1.0//EN
CALSCALE:GREGORIAN
METHOD:PUBLISH
X-ORIGINAL-URL:https://stmarks-church.co.uk
X-WR-CALDESC:Events for St Marks&#039;s Bredbury
REFRESH-INTERVAL;VALUE=DURATION:PT1H
X-Robots-Tag:noindex
X-PUBLISHED-TTL:PT1H
BEGIN:VTIMEZONE
TZID:UTC
BEGIN:STANDARD
TZOFFSETFROM:+0000
TZOFFSETTO:+0000
TZNAME:UTC
DTSTART:20250101T000000
END:STANDARD
END:VTIMEZONE
BEGIN:VEVENT
DTSTART;TZID=UTC:20260430T100000
DTEND;TZID=UTC:20260430T113000
DTSTAMP:20260423T205041
CREATED:20251020T163356Z
LAST-MODIFIED:20260423T144346Z
UID:24143-1777543200-1777548600@stmarks-church.co.uk
SUMMARY:Toddlers
DESCRIPTION:Minis at St Mark’s is our baby and toddler playgroup.\nIt’s a relaxed and welcoming place for parents and carers to meet and get to know one another\, and for children ages 0-4 to play and have lots of fun in a safe environment. There is also coffee\, tea\, baked goods and fruit to enjoy.\nNo need to book – just turn up and join the fun!\nEvery Thursday during term time\, 10:00am to 11:30am.\nWe’d love to see you there!
URL:https://stmarks-church.co.uk/event/toddlers/
ATTACH;FMTTYPE=image/jpeg:https://stmarks-church.co.uk/wp-content/uploads/2024/12/Toddlers-2.jpg
END:VEVENT
END:VCALENDAR